BEGIN:VCALENDAR
VERSION:2.0
METHOD:PUBLISH
BEGIN:VEVENT
DTSTART:20251011T140000Z
DTEND:20251012T200000Z
LOCATION:Rockville, MD 20850
TRANSP: OPAQUE
SEQUENCE:0
UID:
DTSTAMP:20260421T195518Z
SUMMARY:Big Moon Little Stars in King Farm!
DESCRIPTION:Big Moon Little Stars in King Farm! Big Moon Little Stars 
UID:1776822918
STREET-ADDRESS:See website
POSTAL-CODE:20850
LOCALITY:Rockville
REGION:ABBREV=MD
COUNTRY:ABBREV=US;ABBREV=USA:United States
URL;TYPE=Event Listing:https://estatesales.org/estate-sales/md/rockville/20850/big-moon-little-stars-in-2402687
PRIORITY:1
CLASS:PUBLIC
SEQUENCE:0
STATUS:CONFIRMED
TRANSP:OPAQUE
END:VEVENT
END:VCALENDAR
