BEGIN:VCALENDAR
VERSION:2.0
METHOD:PUBLISH
BEGIN:VEVENT
DTSTART:20251011T160000Z
DTEND:20251011T230000Z
LOCATION:Moses Lake, WA 98837
TRANSP: OPAQUE
SEQUENCE:0
UID:
DTSTAMP:20260424T133644Z
SUMMARY:Moses Lake Estate Sale
DESCRIPTION:Moses Lake Estate Sale A&W Helping Hands Estate Sale services and full cleanouts 
UID:1777059404
STREET-ADDRESS:See website
POSTAL-CODE:98837
LOCALITY:Moses Lake
REGION:ABBREV=WA
COUNTRY:ABBREV=US;ABBREV=USA:United States
URL;TYPE=Event Listing:https://estatesales.org/estate-sales/wa/moses-lake/98837/moses-lake-estate-sale-2406058
PRIORITY:1
CLASS:PUBLIC
SEQUENCE:0
STATUS:CONFIRMED
TRANSP:OPAQUE
END:VEVENT
END:VCALENDAR
