BEGIN:VCALENDAR
VERSION:2.0
METHOD:PUBLISH
BEGIN:VEVENT
DTSTART:20251011T150000Z
DTEND:20251011T190000Z
LOCATION:Newark, IL 60541
TRANSP: OPAQUE
SEQUENCE:0
UID:
DTSTAMP:20260423T131057Z
SUMMARY:LARGE PUBLIC AUCTION: Scale Model Kits – RC Planes – Trains – Farm Toys – Power Tools – Woodworking Tools – Festool – Cub Cadet Mower – New Household Items – New Men’s Coats – New Tools.
DESCRIPTION:LARGE PUBLIC AUCTION: Scale Model Kits – RC Planes – Trains – Farm Toys – Power Tools – Woodworking Tools – Festool – Cub Cadet Mower – New Household Items – New Men’s Coats – New Tools. Lucky Auctions 
UID:1776971457
STREET-ADDRESS:See website
POSTAL-CODE:60541
LOCALITY:Newark
REGION:ABBREV=IL
COUNTRY:ABBREV=US;ABBREV=USA:United States
URL;TYPE=Event Listing:https://estatesales.org/estate-sales/il/newark/60541/large-public-auction-scale-model-2402644
PRIORITY:1
CLASS:PUBLIC
SEQUENCE:0
STATUS:CONFIRMED
TRANSP:OPAQUE
END:VEVENT
END:VCALENDAR
