BEGIN:VCALENDAR
VERSION:2.0
METHOD:PUBLISH
BEGIN:VEVENT
DTSTART:20251011T150000Z
DTEND:20251012T210000Z
LOCATION:Leander, TX 78641
TRANSP: OPAQUE
SEQUENCE:0
UID:
DTSTAMP:20260421T203600Z
SUMMARY:Excellent Vintage and Household Goods in Leander
DESCRIPTION:Excellent Vintage and Household Goods in Leander Caring Transitions of North Austin and Cedar Park 
UID:1776825360
STREET-ADDRESS:See website
POSTAL-CODE:78641
LOCALITY:Leander
REGION:ABBREV=TX
COUNTRY:ABBREV=US;ABBREV=USA:United States
URL;TYPE=Event Listing:https://estatesales.org/estate-sales/tx/leander/78641/excellent-vintage-and-household-goods-2405651
PRIORITY:1
CLASS:PUBLIC
SEQUENCE:0
STATUS:CONFIRMED
TRANSP:OPAQUE
END:VEVENT
END:VCALENDAR
