BEGIN:VCALENDAR
VERSION:2.0
METHOD:PUBLISH
BEGIN:VEVENT
DTSTART:20241011T160000Z
DTEND:20241013T190000Z
LOCATION:Commerce City, CO 80022
TRANSP: OPAQUE
SEQUENCE:0
UID:
DTSTAMP:20260420T005450Z
SUMMARY:50%off-Full house @ Commerce City Estate Sale
DESCRIPTION:50%off-Full house @ Commerce City Estate Sale American Estate Sales 
UID:1776668090
STREET-ADDRESS:See website
POSTAL-CODE:80022
LOCALITY:Commerce City
REGION:ABBREV=CO
COUNTRY:ABBREV=US;ABBREV=USA:United States
URL;TYPE=Event Listing:https://estatesales.org/estate-sales/co/commerce-city/80022/full-house-commerce-city-estate-2343680
PRIORITY:1
CLASS:PUBLIC
SEQUENCE:0
STATUS:CONFIRMED
TRANSP:OPAQUE
END:VEVENT
END:VCALENDAR
