BEGIN:VCALENDAR
VERSION:2.0
METHOD:PUBLISH
BEGIN:VEVENT
DTSTART:20241011T140000Z
DTEND:20241012T210000Z
LOCATION:Green Bay, WI 54301
TRANSP: OPAQUE
SEQUENCE:0
UID:
DTSTAMP:20260424T213724Z
SUMMARY:Green Bay, ESTATE SALE BY THE " Estate Sale Squad". Friday Oct 11, 9 to 5, Saturday October 12, 9 to 4.
DESCRIPTION:Green Bay, ESTATE SALE BY THE " Estate Sale Squad". Friday Oct 11, 9 to 5, Saturday October 12, 9 to 4. Estate Sale Squad LLC 
UID:1777088244
STREET-ADDRESS:See website
POSTAL-CODE:54301
LOCALITY:Green Bay
REGION:ABBREV=WI
COUNTRY:ABBREV=US;ABBREV=USA:United States
URL;TYPE=Event Listing:https://estatesales.org/estate-sales/wi/green-bay/54301/green-bay-estate-sale-by-2343730
PRIORITY:1
CLASS:PUBLIC
SEQUENCE:0
STATUS:CONFIRMED
TRANSP:OPAQUE
END:VEVENT
END:VCALENDAR
