BEGIN:VCALENDAR
VERSION:2.0
METHOD:PUBLISH
BEGIN:VEVENT
DTSTART:20241011T150000Z
DTEND:20241012T200000Z
LOCATION:Reno, NV 89512
TRANSP: OPAQUE
SEQUENCE:0
UID:
DTSTAMP:20260424T170902Z
SUMMARY:The McKenzie Estate Sale
DESCRIPTION:The McKenzie Estate Sale BEYOND Estate Sales, Reno-Sparks, NV 
UID:1777072142
STREET-ADDRESS:See website
POSTAL-CODE:89512
LOCALITY:Reno
REGION:ABBREV=NV
COUNTRY:ABBREV=US;ABBREV=USA:United States
URL;TYPE=Event Listing:https://estatesales.org/estate-sales/nv/reno/89512/the-mckenzie-estate-sale-2343982
PRIORITY:1
CLASS:PUBLIC
SEQUENCE:0
STATUS:CONFIRMED
TRANSP:OPAQUE
END:VEVENT
END:VCALENDAR
