BEGIN:VCALENDAR
VERSION:2.0
METHOD:PUBLISH
BEGIN:VEVENT
DTSTART:20131011T140000Z
DTEND:20131013T180000Z
LOCATION:Wareham, MA 02571
TRANSP: OPAQUE
SEQUENCE:0
UID:
DTSTAMP:20260420T012618Z
SUMMARY:Huge Estate Sale of Fine Furnishings, Antiques & Collectibles
DESCRIPTION:Huge Estate Sale of Fine Furnishings, Antiques & Collectibles Estate Sales Professionals of Cape Cod 
UID:1776669978
STREET-ADDRESS:See website
POSTAL-CODE:02571
LOCALITY:Wareham
REGION:ABBREV=MA
COUNTRY:ABBREV=US;ABBREV=USA:United States
URL;TYPE=Event Listing:https://estatesales.org/estate-sales/ma/wareham/02571/huge-estate-sale-of-fine-333230
PRIORITY:1
CLASS:PUBLIC
SEQUENCE:0
STATUS:CONFIRMED
TRANSP:OPAQUE
END:VEVENT
END:VCALENDAR
