BEGIN:VCALENDAR
VERSION:2.0
METHOD:PUBLISH
BEGIN:VEVENT
DTSTART:20251010T160000Z
DTEND:20251012T190000Z
LOCATION:East Hampton, NY 11937
TRANSP: OPAQUE
SEQUENCE:0
UID:
DTSTAMP:20260423T224645Z
SUMMARY:Farrell Builders Design Warehouse Sale
DESCRIPTION:Farrell Builders Design Warehouse Sale re.luxeHamptons 
UID:1777006005
STREET-ADDRESS:See website
POSTAL-CODE:11937
LOCALITY:East Hampton
REGION:ABBREV=NY
COUNTRY:ABBREV=US;ABBREV=USA:United States
URL;TYPE=Event Listing:https://estatesales.org/estate-sales/ny/east-hampton/11937/farrell-builders-design-warehouse-sale-2406309
PRIORITY:1
CLASS:PUBLIC
SEQUENCE:0
STATUS:CONFIRMED
TRANSP:OPAQUE
END:VEVENT
END:VCALENDAR
