BEGIN:VCALENDAR
VERSION:2.0
METHOD:PUBLISH
BEGIN:VEVENT
DTSTART:20251010T130000Z
DTEND:20251012T180000Z
LOCATION:Saint Augustine, FL 32086
TRANSP: OPAQUE
SEQUENCE:0
UID:
DTSTAMP:20260425T102906Z
SUMMARY:Grasons St Johns & Flagler Counties Final Day 50% OFF St Augustine
DESCRIPTION:Grasons St Johns & Flagler Counties Final Day 50% OFF St Augustine Grasons Of St Johns & Flagler Counties 
UID:1777134546
STREET-ADDRESS:See website
POSTAL-CODE:32086
LOCALITY:Saint Augustine
REGION:ABBREV=FL
COUNTRY:ABBREV=US;ABBREV=USA:United States
URL;TYPE=Event Listing:https://estatesales.org/estate-sales/fl/saint-augustine/32086/grasons-st-johns-flagler-counties-2403471
PRIORITY:1
CLASS:PUBLIC
SEQUENCE:0
STATUS:CONFIRMED
TRANSP:OPAQUE
END:VEVENT
END:VCALENDAR
