BEGIN:VCALENDAR
VERSION:2.0
METHOD:PUBLISH
BEGIN:VEVENT
DTSTART:20251010T160000Z
DTEND:20251011T200000Z
LOCATION:Brentwood, CA 94513
TRANSP: OPAQUE
SEQUENCE:0
UID:
DTSTAMP:20260423T062912Z
SUMMARY:Electronics and Cameras Galore, Friday and Saturday!
DESCRIPTION:Electronics and Cameras Galore, Friday and Saturday! J and C Estate Sales 
UID:1776947352
STREET-ADDRESS:See website
POSTAL-CODE:94513
LOCALITY:Brentwood
REGION:ABBREV=CA
COUNTRY:ABBREV=US;ABBREV=USA:United States
URL;TYPE=Event Listing:https://estatesales.org/estate-sales/ca/brentwood/94513/electronics-and-cameras-galore-friday-2405565
PRIORITY:1
CLASS:PUBLIC
SEQUENCE:0
STATUS:CONFIRMED
TRANSP:OPAQUE
END:VEVENT
END:VCALENDAR
