BEGIN:VCALENDAR
VERSION:2.0
METHOD:PUBLISH
BEGIN:VEVENT
DTSTART:20251010T130000Z
DTEND:20251012T210000Z
LOCATION:Houston, TX 77070
TRANSP: OPAQUE
SEQUENCE:0
UID:
DTSTAMP:20260424T131451Z
SUMMARY:50% SUNDAY ~ Small But Abundant
DESCRIPTION:50% SUNDAY ~ Small But Abundant Thrivewell Premier Estate Sales & Home Solutions 
UID:1777058091
STREET-ADDRESS:See website
POSTAL-CODE:77070
LOCALITY:Houston
REGION:ABBREV=TX
COUNTRY:ABBREV=US;ABBREV=USA:United States
URL;TYPE=Event Listing:https://estatesales.org/estate-sales/tx/houston/77070/50-sunday-small-but-abundant-2406121
PRIORITY:1
CLASS:PUBLIC
SEQUENCE:0
STATUS:CONFIRMED
TRANSP:OPAQUE
END:VEVENT
END:VCALENDAR
