BEGIN:VCALENDAR
VERSION:2.0
METHOD:PUBLISH
BEGIN:VEVENT
DTSTART:20251010T120000Z
DTEND:20251011T190000Z
LOCATION:West Hartford, CT 06107
TRANSP: OPAQUE
SEQUENCE:0
UID:
DTSTAMP:20260425T152517Z
SUMMARY:West Hartford Estate Sale featuring MCM lighting and vtg. clothing
DESCRIPTION:West Hartford Estate Sale featuring MCM lighting and vtg. clothing Sean Mahoney Estate Sales LLC 
UID:1777152317
STREET-ADDRESS:See website
POSTAL-CODE:06107
LOCALITY:West Hartford
REGION:ABBREV=CT
COUNTRY:ABBREV=US;ABBREV=USA:United States
URL;TYPE=Event Listing:https://estatesales.org/estate-sales/ct/west-hartford/06107/west-hartford-estate-sale-featuring-2405859
PRIORITY:1
CLASS:PUBLIC
SEQUENCE:0
STATUS:CONFIRMED
TRANSP:OPAQUE
END:VEVENT
END:VCALENDAR
