BEGIN:VCALENDAR
VERSION:2.0
METHOD:PUBLISH
BEGIN:VEVENT
DTSTART:20251010T140000Z
DTEND:20251012T200000Z
LOCATION:Visalia, CA 93291
TRANSP: OPAQUE
SEQUENCE:0
UID:
DTSTAMP:20260422T045946Z
SUMMARY:Luxe Living Estate Blowout!
DESCRIPTION:Luxe Living Estate Blowout! Golden Estate Sales 
UID:1776855586
STREET-ADDRESS:See website
POSTAL-CODE:93291
LOCALITY:Visalia
REGION:ABBREV=CA
COUNTRY:ABBREV=US;ABBREV=USA:United States
URL;TYPE=Event Listing:https://estatesales.org/estate-sales/ca/visalia/93291/luxe-living-estate-blowout-2405491
PRIORITY:1
CLASS:PUBLIC
SEQUENCE:0
STATUS:CONFIRMED
TRANSP:OPAQUE
END:VEVENT
END:VCALENDAR
