BEGIN:VCALENDAR
VERSION:2.0
METHOD:PUBLISH
BEGIN:VEVENT
DTSTART:20241010T150000Z
DTEND:20241013T190000Z
LOCATION:Glendale, AZ 85302
TRANSP: OPAQUE
SEQUENCE:0
UID:
DTSTAMP:20260419T194946Z
SUMMARY:Pickers Paradise in Glendale
DESCRIPTION:Pickers Paradise in Glendale Arizona Finds 
UID:1776649786
STREET-ADDRESS:See website
POSTAL-CODE:85302
LOCALITY:Glendale
REGION:ABBREV=AZ
COUNTRY:ABBREV=US;ABBREV=USA:United States
URL;TYPE=Event Listing:https://estatesales.org/estate-sales/az/glendale/85302/pickers-paradise-in-glendale-2341447
PRIORITY:1
CLASS:PUBLIC
SEQUENCE:0
STATUS:CONFIRMED
TRANSP:OPAQUE
END:VEVENT
END:VCALENDAR
