BEGIN:VCALENDAR
VERSION:2.0
METHOD:PUBLISH
BEGIN:VEVENT
DTSTART:20201010T163000Z
DTEND:20201011T193000Z
LOCATION:Salinas, CA 93908
TRANSP: OPAQUE
SEQUENCE:0
UID:
DTSTAMP:20260421T115539Z
SUMMARY:Downsizing sale. 1/2 off today
DESCRIPTION:Downsizing sale. 1/2 off today A Move Made SImple 
UID:1776794139
STREET-ADDRESS:See website
POSTAL-CODE:93908
LOCALITY:Salinas
REGION:ABBREV=CA
COUNTRY:ABBREV=US;ABBREV=USA:United States
URL;TYPE=Event Listing:https://estatesales.org/estate-sales/ca/salinas/93908/downsizing-sale-12-off-today-1833849
PRIORITY:1
CLASS:PUBLIC
SEQUENCE:0
STATUS:CONFIRMED
TRANSP:OPAQUE
END:VEVENT
END:VCALENDAR
