BEGIN:VCALENDAR
VERSION:2.0
METHOD:PUBLISH
BEGIN:VEVENT
DTSTART:20151010T170000Z
DTEND:20151010T060000Z
LOCATION:Carson City, NV 89704
TRANSP: OPAQUE
SEQUENCE:0
UID:
DTSTAMP:20260425T194318Z
SUMMARY:All Auto Auction on Saturday, October 10th at 11:00am
DESCRIPTION:All Auto Auction on Saturday, October 10th at 11:00am Carson City Auction Company 
UID:1777167798
STREET-ADDRESS:See website
POSTAL-CODE:89704
LOCALITY:Carson City
REGION:ABBREV=NV
COUNTRY:ABBREV=US;ABBREV=USA:United States
URL;TYPE=Event Listing:https://estatesales.org/estate-sales/nv/carson-city/89704/all-auto-auction-on-saturday-695317
PRIORITY:1
CLASS:PUBLIC
SEQUENCE:0
STATUS:CONFIRMED
TRANSP:OPAQUE
END:VEVENT
END:VCALENDAR
