BEGIN:VCALENDAR
VERSION:2.0
METHOD:PUBLISH
BEGIN:VEVENT
DTSTART:20141010T130000Z
DTEND:20141011T190000Z
LOCATION:Franklin, MI 48025
TRANSP: OPAQUE
SEQUENCE:0
UID:
DTSTAMP:20260421T071318Z
SUMMARY:This Estate Sale has Football Memorabilia and High Quality, Up-scale Furniture!!!
DESCRIPTION:This Estate Sale has Football Memorabilia and High Quality, Up-scale Furniture!!! Caring Transitions of Oakland County MI 
UID:1776777198
STREET-ADDRESS:See website
POSTAL-CODE:48025
LOCALITY:Franklin
REGION:ABBREV=MI
COUNTRY:ABBREV=US;ABBREV=USA:United States
URL;TYPE=Event Listing:https://estatesales.org/estate-sales/mi/franklin/48025/this-estate-sale-has-football-459110
PRIORITY:1
CLASS:PUBLIC
SEQUENCE:0
STATUS:CONFIRMED
TRANSP:OPAQUE
END:VEVENT
END:VCALENDAR
