BEGIN:VCALENDAR
VERSION:2.0
METHOD:PUBLISH
BEGIN:VEVENT
DTSTART:20251009T160000Z
DTEND:20251011T220000Z
LOCATION:Yukon, OK 73099
TRANSP: OPAQUE
SEQUENCE:0
UID:
DTSTAMP:20260422T032451Z
SUMMARY:From Grandma’s Glam to Retro Ramblers – It’s All Up for Grabs!
DESCRIPTION:From Grandma’s Glam to Retro Ramblers – It’s All Up for Grabs! Flippin' Awesome, LLC 
UID:1776849891
STREET-ADDRESS:See website
POSTAL-CODE:73099
LOCALITY:Yukon
REGION:ABBREV=OK
COUNTRY:ABBREV=US;ABBREV=USA:United States
URL;TYPE=Event Listing:https://estatesales.org/estate-sales/ok/yukon/73099/from-grandmas-glam-to-retro-2406263
PRIORITY:1
CLASS:PUBLIC
SEQUENCE:0
STATUS:CONFIRMED
TRANSP:OPAQUE
END:VEVENT
END:VCALENDAR
