BEGIN:VCALENDAR
VERSION:2.0
METHOD:PUBLISH
BEGIN:VEVENT
DTSTART:20251009T150000Z
DTEND:20251010T190000Z
LOCATION:Newcastle, OK 73065
TRANSP: OPAQUE
SEQUENCE:0
UID:
DTSTAMP:20260424T205412Z
SUMMARY:Newcastle Sale
DESCRIPTION:Newcastle Sale Vincent Estate Sales 
UID:1777085652
STREET-ADDRESS:See website
POSTAL-CODE:73065
LOCALITY:Newcastle
REGION:ABBREV=OK
COUNTRY:ABBREV=US;ABBREV=USA:United States
URL;TYPE=Event Listing:https://estatesales.org/estate-sales/ok/newcastle/73065/newcastle-sale-2405799
PRIORITY:1
CLASS:PUBLIC
SEQUENCE:0
STATUS:CONFIRMED
TRANSP:OPAQUE
END:VEVENT
END:VCALENDAR
