BEGIN:VCALENDAR
VERSION:2.0
METHOD:PUBLISH
BEGIN:VEVENT
DTSTART:20211009T160000Z
DTEND:20211009T220000Z
LOCATION:Glendale, CA 91206
TRANSP: OPAQUE
SEQUENCE:0
UID:
DTSTAMP:20260421T080804Z
SUMMARY:Org. Home Owner Estate Sale w/ 70s Flair, Antique Crystal and A Bit of Everything 
DESCRIPTION:Org. Home Owner Estate Sale w/ 70s Flair, Antique Crystal and A Bit of Everything  Pacific Coast Estate Estate Sales & Liquidation 
UID:1776780484
STREET-ADDRESS:See website
POSTAL-CODE:91206
LOCALITY:Glendale
REGION:ABBREV=CA
COUNTRY:ABBREV=US;ABBREV=USA:United States
URL;TYPE=Event Listing:https://estatesales.org/estate-sales/ca/glendale/91206/org-home-owner-estate-sale-1965663
PRIORITY:1
CLASS:PUBLIC
SEQUENCE:0
STATUS:CONFIRMED
TRANSP:OPAQUE
END:VEVENT
END:VCALENDAR
