BEGIN:VCALENDAR
VERSION:2.0
METHOD:PUBLISH
BEGIN:VEVENT
DTSTART:20211009T120000Z
DTEND:20211009T180000Z
LOCATION:Apollo, PA 15613
TRANSP: OPAQUE
SEQUENCE:0
UID:
DTSTAMP:20260419T070252Z
SUMMARY:Estate Liquidation 
DESCRIPTION:Estate Liquidation  Williams & Barron Estate Services LLC 
UID:1776603772
STREET-ADDRESS:See website
POSTAL-CODE:15613
LOCALITY:Apollo
REGION:ABBREV=PA
COUNTRY:ABBREV=US;ABBREV=USA:United States
URL;TYPE=Event Listing:https://estatesales.org/estate-sales/pa/apollo/15613/estate-liquidation-1967447
PRIORITY:1
CLASS:PUBLIC
SEQUENCE:0
STATUS:CONFIRMED
TRANSP:OPAQUE
END:VEVENT
END:VCALENDAR
