BEGIN:VCALENDAR
VERSION:2.0
METHOD:PUBLISH
BEGIN:VEVENT
DTSTART:20151009T150000Z
DTEND:20151011T220000Z
LOCATION:Tacoma, WA 98406
TRANSP: OPAQUE
SEQUENCE:0
UID:
DTSTAMP:20260424T133522Z
SUMMARY:North Tacoma Estate Sale
DESCRIPTION:North Tacoma Estate Sale P W Green Antiques & Estate Sales 
UID:1777059322
STREET-ADDRESS:See website
POSTAL-CODE:98406
LOCALITY:Tacoma
REGION:ABBREV=WA
COUNTRY:ABBREV=US;ABBREV=USA:United States
URL;TYPE=Event Listing:https://estatesales.org/estate-sales/wa/tacoma/98406/north-tacoma-estate-sale-641669
PRIORITY:1
CLASS:PUBLIC
SEQUENCE:0
STATUS:CONFIRMED
TRANSP:OPAQUE
END:VEVENT
END:VCALENDAR
