BEGIN:VCALENDAR
VERSION:2.0
METHOD:PUBLISH
BEGIN:VEVENT
DTSTART:20151009T140000Z
DTEND:20151010T200000Z
LOCATION:Mishawaka, IN 46544
TRANSP: OPAQUE
SEQUENCE:0
UID:
DTSTAMP:20260421T030000Z
SUMMARY:DOWN SIZING ESTATE SALE QUALITY AND CLEAN ITEMS READY FOR YOUR HOME CHECK THIS SALE OUT--NICE
DESCRIPTION:DOWN SIZING ESTATE SALE QUALITY AND CLEAN ITEMS READY FOR YOUR HOME CHECK THIS SALE OUT--NICE Dick's Estate Sales 
UID:1776762000
STREET-ADDRESS:See website
POSTAL-CODE:46544
LOCALITY:Mishawaka
REGION:ABBREV=IN
COUNTRY:ABBREV=US;ABBREV=USA:United States
URL;TYPE=Event Listing:https://estatesales.org/estate-sales/in/mishawaka/46544/down-sizing-estate-sale-quality-665951
PRIORITY:1
CLASS:PUBLIC
SEQUENCE:0
STATUS:CONFIRMED
TRANSP:OPAQUE
END:VEVENT
END:VCALENDAR
