BEGIN:VCALENDAR
VERSION:2.0
METHOD:PUBLISH
BEGIN:VEVENT
DTSTART:20201008T140000Z
DTEND:20201011T200000Z
LOCATION:Dayton, OH 45429
TRANSP: OPAQUE
SEQUENCE:0
UID:
DTSTAMP:20260419T074333Z
SUMMARY:Estate Sale by Gayle!
DESCRIPTION:Estate Sale by Gayle! Perkins Interiors & Estate Sales 
UID:1776606213
STREET-ADDRESS:See website
POSTAL-CODE:45429
LOCALITY:Dayton
REGION:ABBREV=OH
COUNTRY:ABBREV=US;ABBREV=USA:United States
URL;TYPE=Event Listing:https://estatesales.org/estate-sales/oh/dayton/45429/estate-sale-by-gayle-1832055
PRIORITY:1
CLASS:PUBLIC
SEQUENCE:0
STATUS:CONFIRMED
TRANSP:OPAQUE
END:VEVENT
END:VCALENDAR
