BEGIN:VCALENDAR
VERSION:2.0
METHOD:PUBLISH
BEGIN:VEVENT
DTSTART:20161008T140000Z
DTEND:20161008T210000Z
LOCATION:Saint Louis, MO 63123
TRANSP: OPAQUE
SEQUENCE:0
UID:
DTSTAMP:20260419T183234Z
SUMMARY:Father Time Auctions - Green Park Estate
DESCRIPTION:Father Time Auctions - Green Park Estate Father Time Auctions and Real Estate 
UID:1776645154
STREET-ADDRESS:See website
POSTAL-CODE:63123
LOCALITY:Saint Louis
REGION:ABBREV=MO
COUNTRY:ABBREV=US;ABBREV=USA:United States
URL;TYPE=Event Listing:https://estatesales.org/estate-sales/mo/saint-louis/63123/father-time-auctions-green-park-990419
PRIORITY:1
CLASS:PUBLIC
SEQUENCE:0
STATUS:CONFIRMED
TRANSP:OPAQUE
END:VEVENT
END:VCALENDAR
