BEGIN:VCALENDAR
VERSION:2.0
METHOD:PUBLISH
BEGIN:VEVENT
DTSTART:20231007T140000Z
DTEND:20231008T210000Z
LOCATION:Zwolle, LA 71486
TRANSP: OPAQUE
SEQUENCE:0
UID:
DTSTAMP:20260425T162549Z
SUMMARY:Zowsers in Zwolle
DESCRIPTION:Zowsers in Zwolle Desoto Barnyard & More Estate Sales 
UID:1777155949
STREET-ADDRESS:See website
POSTAL-CODE:71486
LOCALITY:Zwolle
REGION:ABBREV=LA
COUNTRY:ABBREV=US;ABBREV=USA:United States
URL;TYPE=Event Listing:https://estatesales.org/estate-sales/la/zwolle/71486/zowsers-in-zwolle-2239181
PRIORITY:1
CLASS:PUBLIC
SEQUENCE:0
STATUS:CONFIRMED
TRANSP:OPAQUE
END:VEVENT
END:VCALENDAR
