BEGIN:VCALENDAR
VERSION:2.0
METHOD:PUBLISH
BEGIN:VEVENT
DTSTART:20221007T160000Z
DTEND:20221009T200000Z
LOCATION:Hercules, CA 94547
TRANSP: OPAQUE
SEQUENCE:0
UID:
DTSTAMP:20260423T062912Z
SUMMARY:Hercules Estate Sale BLOWOUT! Tremendous Amounts of Religious Icons and Temple Architecture!
DESCRIPTION:Hercules Estate Sale BLOWOUT! Tremendous Amounts of Religious Icons and Temple Architecture! J and C Estate Sales 
UID:1776947352
STREET-ADDRESS:See website
POSTAL-CODE:94547
LOCALITY:Hercules
REGION:ABBREV=CA
COUNTRY:ABBREV=US;ABBREV=USA:United States
URL;TYPE=Event Listing:https://estatesales.org/estate-sales/ca/hercules/94547/hercules-estate-sale-blowout-tremendous-2103867
PRIORITY:1
CLASS:PUBLIC
SEQUENCE:0
STATUS:CONFIRMED
TRANSP:OPAQUE
END:VEVENT
END:VCALENDAR
