BEGIN:VCALENDAR
VERSION:2.0
METHOD:PUBLISH
BEGIN:VEVENT
DTSTART:20111007T150000Z
DTEND:20111008T230000Z
LOCATION:Malibu, CA 90048
TRANSP: OPAQUE
SEQUENCE:0
UID:
DTSTAMP:20260420T222147Z
SUMMARY:VINTAGE DANISH MODERN MALIBU ESTATE SALE! 
DESCRIPTION:VINTAGE DANISH MODERN MALIBU ESTATE SALE!  Retro Robin Estate Sales, LLC 
UID:1776745307
STREET-ADDRESS:See website
POSTAL-CODE:90048
LOCALITY:Malibu
REGION:ABBREV=CA
COUNTRY:ABBREV=US;ABBREV=USA:United States
URL;TYPE=Event Listing:https://estatesales.org/estate-sales/ca/malibu/90048/vintage-danish-modern-malibu-estate-134366
PRIORITY:1
CLASS:PUBLIC
SEQUENCE:0
STATUS:CONFIRMED
TRANSP:OPAQUE
END:VEVENT
END:VCALENDAR
