BEGIN:VCALENDAR
VERSION:2.0
METHOD:PUBLISH
BEGIN:VEVENT
DTSTART:20231006T160000Z
DTEND:20231008T200000Z
LOCATION:Hudson, CO 80642
TRANSP: OPAQUE
SEQUENCE:0
UID:
DTSTAMP:20260420T005405Z
SUMMARY:50% off-COLLECTIONS @ HUDSON ESTATE SALE
DESCRIPTION:50% off-COLLECTIONS @ HUDSON ESTATE SALE American Estate Sales 
UID:1776668045
STREET-ADDRESS:See website
POSTAL-CODE:80642
LOCALITY:Hudson
REGION:ABBREV=CO
COUNTRY:ABBREV=US;ABBREV=USA:United States
URL;TYPE=Event Listing:https://estatesales.org/estate-sales/co/hudson/80642/25-offcollections-hudson-estate-sale-2239309
PRIORITY:1
CLASS:PUBLIC
SEQUENCE:0
STATUS:CONFIRMED
TRANSP:OPAQUE
END:VEVENT
END:VCALENDAR
