BEGIN:VCALENDAR
VERSION:2.0
METHOD:PUBLISH
BEGIN:VEVENT
DTSTART:20231006T160000Z
DTEND:20231008T200000Z
LOCATION:Concord, CA 94521
TRANSP: OPAQUE
SEQUENCE:0
UID:
DTSTAMP:20260422T005302Z
SUMMARY:10/6-10/8 CONCORD Sword, Tool, Antique, Collectible, Cast Iron Pan, Blacksmith, Woodwork Sale
DESCRIPTION:10/6-10/8 CONCORD Sword, Tool, Antique, Collectible, Cast Iron Pan, Blacksmith, Woodwork Sale Anton's Antiques 
UID:1776840782
STREET-ADDRESS:See website
POSTAL-CODE:94521
LOCALITY:Concord
REGION:ABBREV=CA
COUNTRY:ABBREV=US;ABBREV=USA:United States
URL;TYPE=Event Listing:https://estatesales.org/estate-sales/ca/concord/94521/106108-concord-sword-tool-antique-2239617
PRIORITY:1
CLASS:PUBLIC
SEQUENCE:0
STATUS:CONFIRMED
TRANSP:OPAQUE
END:VEVENT
END:VCALENDAR
