BEGIN:VCALENDAR
VERSION:2.0
METHOD:PUBLISH
BEGIN:VEVENT
DTSTART:20231006T120000Z
DTEND:20231008T190000Z
LOCATION:Mobile, AL 36608
TRANSP: OPAQUE
SEQUENCE:0
UID:
DTSTAMP:20260422T064617Z
SUMMARY:Retro Spring Hill Estate Sale
DESCRIPTION:Retro Spring Hill Estate Sale Uncommon Artifacts Estate Services LLC 
UID:1776861977
STREET-ADDRESS:See website
POSTAL-CODE:36608
LOCALITY:Mobile
REGION:ABBREV=AL
COUNTRY:ABBREV=US;ABBREV=USA:United States
URL;TYPE=Event Listing:https://estatesales.org/estate-sales/al/mobile/36608/retro-spring-hill-estate-sale-2237431
PRIORITY:1
CLASS:PUBLIC
SEQUENCE:0
STATUS:CONFIRMED
TRANSP:OPAQUE
END:VEVENT
END:VCALENDAR
