BEGIN:VCALENDAR
VERSION:2.0
METHOD:PUBLISH
BEGIN:VEVENT
DTSTART:20231006T230000Z
DTEND:20231007T045900Z
LOCATION:Cedar Lake, IN 46303
TRANSP: OPAQUE
SEQUENCE:0
UID:
DTSTAMP:20260419T070316Z
SUMMARY:2 Old Goats Friday Nights "LIVE" Auction Barn!!
DESCRIPTION:2 Old Goats Friday Nights "LIVE" Auction Barn!! Auction & Estates by Diana Cook 
UID:1776603796
STREET-ADDRESS:See website
POSTAL-CODE:46303
LOCALITY:Cedar Lake
REGION:ABBREV=IN
COUNTRY:ABBREV=US;ABBREV=USA:United States
URL;TYPE=Event Listing:https://estatesales.org/estate-sales/in/cedar-lake/46303/2-old-goats-friday-nights-2237025
PRIORITY:1
CLASS:PUBLIC
SEQUENCE:0
STATUS:CONFIRMED
TRANSP:OPAQUE
END:VEVENT
END:VCALENDAR
