BEGIN:VCALENDAR
VERSION:2.0
METHOD:PUBLISH
BEGIN:VEVENT
DTSTART:20221006T130000Z
DTEND:20221008T200000Z
LOCATION:Milford, MI 48380
TRANSP: OPAQUE
SEQUENCE:0
UID:
DTSTAMP:20260423T233327Z
SUMMARY:FROM THE ESTATE OF AL & MARY DETTRICH 
DESCRIPTION:FROM THE ESTATE OF AL & MARY DETTRICH  Caring Transitions of S.E. Michigan 
UID:1777008807
STREET-ADDRESS:See website
POSTAL-CODE:48380
LOCALITY:Milford
REGION:ABBREV=MI
COUNTRY:ABBREV=US;ABBREV=USA:United States
URL;TYPE=Event Listing:https://estatesales.org/estate-sales/mi/milford-charter-township/48380/from-the-estate-of-al-2103959
PRIORITY:1
CLASS:PUBLIC
SEQUENCE:0
STATUS:CONFIRMED
TRANSP:OPAQUE
END:VEVENT
END:VCALENDAR
