BEGIN:VCALENDAR
VERSION:2.0
METHOD:PUBLISH
BEGIN:VEVENT
DTSTART:20181006T133000Z
DTEND:20181007T190000Z
LOCATION:Yonkers, NY 10710
TRANSP: OPAQUE
SEQUENCE:0
UID:
DTSTAMP:20260424T071813Z
SUMMARY:Fully Loaded Estate Sale - 50 Years Accumulation in Yonkers
DESCRIPTION:Fully Loaded Estate Sale - 50 Years Accumulation in Yonkers Stephanie's Storage Sale 
UID:1777036693
STREET-ADDRESS:See website
POSTAL-CODE:10710
LOCALITY:Yonkers
REGION:ABBREV=NY
COUNTRY:ABBREV=US;ABBREV=USA:United States
URL;TYPE=Event Listing:https://estatesales.org/estate-sales/ny/yonkers/10710/fully-loaded-estate-sale-50-1579193
PRIORITY:1
CLASS:PUBLIC
SEQUENCE:0
STATUS:CONFIRMED
TRANSP:OPAQUE
END:VEVENT
END:VCALENDAR
