BEGIN:VCALENDAR
VERSION:2.0
METHOD:PUBLISH
BEGIN:VEVENT
DTSTART:20161006T160000Z
DTEND:20161008T200000Z
LOCATION:Saint Louis, MO 63116
TRANSP: OPAQUE
SEQUENCE:0
UID:
DTSTAMP:20260419T105839Z
SUMMARY:St. Louis City Estate Sale by Pennies In Your Pocket
DESCRIPTION:St. Louis City Estate Sale by Pennies In Your Pocket Pennies In Your Pocket Estate Sale and Appraisal Services 
UID:1776617919
STREET-ADDRESS:See website
POSTAL-CODE:63116
LOCALITY:Saint Louis
REGION:ABBREV=MO
COUNTRY:ABBREV=US;ABBREV=USA:United States
URL;TYPE=Event Listing:https://estatesales.org/estate-sales/mo/saint-louis/63116/st-louis-city-estate-sale-993859
PRIORITY:1
CLASS:PUBLIC
SEQUENCE:0
STATUS:CONFIRMED
TRANSP:OPAQUE
END:VEVENT
END:VCALENDAR
