BEGIN:VCALENDAR
VERSION:2.0
METHOD:PUBLISH
BEGIN:VEVENT
DTSTART:20241005T140000Z
DTEND:20241006T190000Z
LOCATION:Potomac, MD 20854
TRANSP: OPAQUE
SEQUENCE:0
UID:
DTSTAMP:20260421T200112Z
SUMMARY:Big Moon Little Stars in Potomac!
DESCRIPTION:Big Moon Little Stars in Potomac! Big Moon Little Stars 
UID:1776823272
STREET-ADDRESS:See website
POSTAL-CODE:20854
LOCALITY:Potomac
REGION:ABBREV=MD
COUNTRY:ABBREV=US;ABBREV=USA:United States
URL;TYPE=Event Listing:https://estatesales.org/estate-sales/md/potomac/20854/big-moon-little-stars-in-2342147
PRIORITY:1
CLASS:PUBLIC
SEQUENCE:0
STATUS:CONFIRMED
TRANSP:OPAQUE
END:VEVENT
END:VCALENDAR
