BEGIN:VCALENDAR
VERSION:2.0
METHOD:PUBLISH
BEGIN:VEVENT
DTSTART:20241005T120000Z
DTEND:20241006T180000Z
LOCATION:Greensburg, PA 15601
TRANSP: OPAQUE
SEQUENCE:0
UID:
DTSTAMP:20260419T082702Z
SUMMARY:Williams and Barron Estate Sales
DESCRIPTION:Williams and Barron Estate Sales Williams & Barron Estate Services LLC 
UID:1776608822
STREET-ADDRESS:See website
POSTAL-CODE:15601
LOCALITY:Greensburg
REGION:ABBREV=PA
COUNTRY:ABBREV=US;ABBREV=USA:United States
URL;TYPE=Event Listing:https://estatesales.org/estate-sales/pa/greensburg-/15601/williams-and-barron-estate-sales-2339844
PRIORITY:1
CLASS:PUBLIC
SEQUENCE:0
STATUS:CONFIRMED
TRANSP:OPAQUE
END:VEVENT
END:VCALENDAR
