BEGIN:VCALENDAR
VERSION:2.0
METHOD:PUBLISH
BEGIN:VEVENT
DTSTART:20191005T120000Z
DTEND:20191006T210000Z
LOCATION:Colonial Beach, VA 22443
TRANSP: OPAQUE
SEQUENCE:0
UID:
DTSTAMP:20260420T231439Z
SUMMARY:Woodworking Tools and much more
DESCRIPTION:Woodworking Tools and much more Attica 
UID:1776748479
STREET-ADDRESS:See website
POSTAL-CODE:22443
LOCALITY:Colonial Beach
REGION:ABBREV=VA
COUNTRY:ABBREV=US;ABBREV=USA:United States
URL;TYPE=Event Listing:https://estatesales.org/estate-sales/va/colonial-beach/22443/woodworking-tools-and-much-more-1723055
PRIORITY:1
CLASS:PUBLIC
SEQUENCE:0
STATUS:CONFIRMED
TRANSP:OPAQUE
END:VEVENT
END:VCALENDAR
