BEGIN:VCALENDAR
VERSION:2.0
METHOD:PUBLISH
BEGIN:VEVENT
DTSTART:20181005T150000Z
DTEND:20181005T233000Z
LOCATION:Wichita, KS 67212
TRANSP: OPAQUE
SEQUENCE:0
UID:
DTSTAMP:20260419T070849Z
SUMMARY:Caring Transitions of Wichita - Alderny's Timeless Treasures Estate Sale
DESCRIPTION:Caring Transitions of Wichita - Alderny's Timeless Treasures Estate Sale Caring Transitions of Wichita 
UID:1776604129
STREET-ADDRESS:See website
POSTAL-CODE:67212
LOCALITY:Wichita
REGION:ABBREV=KS
COUNTRY:ABBREV=US;ABBREV=USA:United States
URL;TYPE=Event Listing:https://estatesales.org/estate-sales/ks/wichita/67212/caring-transitions-of-wichita-aldernys-1576935
PRIORITY:1
CLASS:PUBLIC
SEQUENCE:0
STATUS:CONFIRMED
TRANSP:OPAQUE
END:VEVENT
END:VCALENDAR
