BEGIN:VCALENDAR
VERSION:2.0
METHOD:PUBLISH
BEGIN:VEVENT
DTSTART:20241004T130000Z
DTEND:20241006T180000Z
LOCATION:Sanford, FL 32771
TRANSP: OPAQUE
SEQUENCE:0
UID:
DTSTAMP:20260423T132549Z
SUMMARY:EMERALD WILL BE IN SANFORD
DESCRIPTION:EMERALD WILL BE IN SANFORD Estate Sales by Emerald 
UID:1776972349
STREET-ADDRESS:See website
POSTAL-CODE:32771
LOCALITY:Sanford
REGION:ABBREV=FL
COUNTRY:ABBREV=US;ABBREV=USA:United States
URL;TYPE=Event Listing:https://estatesales.org/estate-sales/fl/sanford/32771/emerald-will-be-in-sanford-2338371
PRIORITY:1
CLASS:PUBLIC
SEQUENCE:0
STATUS:CONFIRMED
TRANSP:OPAQUE
END:VEVENT
END:VCALENDAR
