BEGIN:VCALENDAR
VERSION:2.0
METHOD:PUBLISH
BEGIN:VEVENT
DTSTART:20241004T130000Z
DTEND:20241005T180000Z
LOCATION:Brandon, FL 33510
TRANSP: OPAQUE
SEQUENCE:0
UID:
DTSTAMP:20260420T031535Z
SUMMARY:Brandon 2 Day Estate Sale Hosted by Fresh Start Estate Liquidators
DESCRIPTION:Brandon 2 Day Estate Sale Hosted by Fresh Start Estate Liquidators Fresh Start Estate Liquidators 
UID:1776676535
STREET-ADDRESS:See website
POSTAL-CODE:33510
LOCALITY:Brandon
REGION:ABBREV=FL
COUNTRY:ABBREV=US;ABBREV=USA:United States
URL;TYPE=Event Listing:https://estatesales.org/estate-sales/fl/brandon/33510/brandon-2-day-estate-sale-2342368
PRIORITY:1
CLASS:PUBLIC
SEQUENCE:0
STATUS:CONFIRMED
TRANSP:OPAQUE
END:VEVENT
END:VCALENDAR
