BEGIN:VCALENDAR
VERSION:2.0
METHOD:PUBLISH
BEGIN:VEVENT
DTSTART:20241004T120000Z
DTEND:20241005T190000Z
LOCATION:Berlin, CT 06037
TRANSP: OPAQUE
SEQUENCE:0
UID:
DTSTAMP:20260425T152542Z
SUMMARY:Berlin Estate Sale featuring Waterfall Art Deco, 60’s & 70’s decor.
DESCRIPTION:Berlin Estate Sale featuring Waterfall Art Deco, 60’s & 70’s decor. Sean Mahoney Estate Sales LLC 
UID:1777152342
STREET-ADDRESS:See website
POSTAL-CODE:06037
LOCALITY:Berlin
REGION:ABBREV=CT
COUNTRY:ABBREV=US;ABBREV=USA:United States
URL;TYPE=Event Listing:https://estatesales.org/estate-sales/ct/berlin-/06037/berlin-estate-sale-featuring-waterfall-2342294
PRIORITY:1
CLASS:PUBLIC
SEQUENCE:0
STATUS:CONFIRMED
TRANSP:OPAQUE
END:VEVENT
END:VCALENDAR
