BEGIN:VCALENDAR
VERSION:2.0
METHOD:PUBLISH
BEGIN:VEVENT
DTSTART:20141004T150000Z
DTEND:20141005T220000Z
LOCATION:Meridian, ID 83642
TRANSP: OPAQUE
SEQUENCE:0
UID:
DTSTAMP:20260423T135307Z
SUMMARY: Collectables, Antiques, Tools and Furniture Estate Sales (Meridian)
DESCRIPTION: Collectables, Antiques, Tools and Furniture Estate Sales (Meridian) Guardian Estate Solutions, LLC. 
UID:1776973987
STREET-ADDRESS:See website
POSTAL-CODE:83642
LOCALITY:Meridian
REGION:ABBREV=ID
COUNTRY:ABBREV=US;ABBREV=USA:United States
URL;TYPE=Event Listing:https://estatesales.org/estate-sales/id/meridian/83642/collectables-antiques-tools-and-furniture-461517
PRIORITY:1
CLASS:PUBLIC
SEQUENCE:0
STATUS:CONFIRMED
TRANSP:OPAQUE
END:VEVENT
END:VCALENDAR
