BEGIN:VCALENDAR
VERSION:2.0
METHOD:PUBLISH
BEGIN:VEVENT
DTSTART:20251003T130000Z
DTEND:20251005T170000Z
LOCATION:Largo, FL 33773
TRANSP: OPAQUE
SEQUENCE:0
UID:
DTSTAMP:20260423T094744Z
SUMMARY:BABY BOOMERS LARGO MOVING SALE
DESCRIPTION:BABY BOOMERS LARGO MOVING SALE Baby Boomers Estate Sales 
UID:1776959264
STREET-ADDRESS:See website
POSTAL-CODE:33773
LOCALITY:Largo
REGION:ABBREV=FL
COUNTRY:ABBREV=US;ABBREV=USA:United States
URL;TYPE=Event Listing:https://estatesales.org/estate-sales/fl/largo/33773/baby-boomers-largo-moving-sale-2403533
PRIORITY:1
CLASS:PUBLIC
SEQUENCE:0
STATUS:CONFIRMED
TRANSP:OPAQUE
END:VEVENT
END:VCALENDAR
