BEGIN:VCALENDAR
VERSION:2.0
METHOD:PUBLISH
BEGIN:VEVENT
DTSTART:20251003T153000Z
DTEND:20251005T210000Z
LOCATION:Gilbert, AZ 85233
TRANSP: OPAQUE
SEQUENCE:0
UID:
DTSTAMP:20260424T125534Z
SUMMARY:3 Day Medieval Madness - Grasons of Gilbert Estate sale
DESCRIPTION:3 Day Medieval Madness - Grasons of Gilbert Estate sale Grasons of Gilbert, AZ 
UID:1777056934
STREET-ADDRESS:See website
POSTAL-CODE:85233
LOCALITY:Gilbert
REGION:ABBREV=AZ
COUNTRY:ABBREV=US;ABBREV=USA:United States
URL;TYPE=Event Listing:https://estatesales.org/estate-sales/az/gilbert/85233/3-day-medieval-madness-grasons-2403633
PRIORITY:1
CLASS:PUBLIC
SEQUENCE:0
STATUS:CONFIRMED
TRANSP:OPAQUE
END:VEVENT
END:VCALENDAR
