BEGIN:VCALENDAR
VERSION:2.0
METHOD:PUBLISH
BEGIN:VEVENT
DTSTART:20251003T150000Z
DTEND:20251004T210000Z
LOCATION:Tempe, AZ 85284
TRANSP: OPAQUE
SEQUENCE:0
UID:
DTSTAMP:20260424T180645Z
SUMMARY:***TEMPE COLLECTORS ESTATE SALE***
DESCRIPTION:***TEMPE COLLECTORS ESTATE SALE*** Anderson Family Estate Sales & Services, LLC 
UID:1777075605
STREET-ADDRESS:See website
POSTAL-CODE:85284
LOCALITY:Tempe
REGION:ABBREV=AZ
COUNTRY:ABBREV=US;ABBREV=USA:United States
URL;TYPE=Event Listing:https://estatesales.org/estate-sales/az/tempe/85284/tempe-collectors-estate-sale-2403565
PRIORITY:1
CLASS:PUBLIC
SEQUENCE:0
STATUS:CONFIRMED
TRANSP:OPAQUE
END:VEVENT
END:VCALENDAR
