BEGIN:VCALENDAR
VERSION:2.0
METHOD:PUBLISH
BEGIN:VEVENT
DTSTART:20201003T150000Z
DTEND:20201004T210000Z
LOCATION:Rancho Mirage, CA 92270
TRANSP: OPAQUE
SEQUENCE:0
UID:
DTSTAMP:20260420T021103Z
SUMMARY:Up to 75 % off (most items) Packed Estate and garage ton of tools- Vintage To Current
DESCRIPTION:Up to 75 % off (most items) Packed Estate and garage ton of tools- Vintage To Current Triumphant Estate Sales of Los Angeles 
UID:1776672663
STREET-ADDRESS:See website
POSTAL-CODE:92270
LOCALITY:Rancho Mirage
REGION:ABBREV=CA
COUNTRY:ABBREV=US;ABBREV=USA:United States
URL;TYPE=Event Listing:https://estatesales.org/estate-sales/ca/rancho-mirage/92270/up-to-75-off-most-1829183
PRIORITY:1
CLASS:PUBLIC
SEQUENCE:0
STATUS:CONFIRMED
TRANSP:OPAQUE
END:VEVENT
END:VCALENDAR
