BEGIN:VCALENDAR
VERSION:2.0
METHOD:PUBLISH
BEGIN:VEVENT
DTSTART:20251002T140000Z
DTEND:20251005T230000Z
LOCATION:Downers Grove, IL 60516
TRANSP: OPAQUE
SEQUENCE:0
UID:
DTSTAMP:20260421T154446Z
SUMMARY:UNMATCHED SALE IN DUPAGE!!!
DESCRIPTION:UNMATCHED SALE IN DUPAGE!!! ULTIMATE TREASURES LLC 
UID:1776807886
STREET-ADDRESS:See website
POSTAL-CODE:60516
LOCALITY:Downers Grove
REGION:ABBREV=IL
COUNTRY:ABBREV=US;ABBREV=USA:United States
URL;TYPE=Event Listing:https://estatesales.org/estate-sales/il/downers-grove/60516/unmatched-sale-in-dupage-2404740
PRIORITY:1
CLASS:PUBLIC
SEQUENCE:0
STATUS:CONFIRMED
TRANSP:OPAQUE
END:VEVENT
END:VCALENDAR
