BEGIN:VCALENDAR
VERSION:2.0
METHOD:PUBLISH
BEGIN:VEVENT
DTSTART:20251002T130000Z
DTEND:20251004T190000Z
LOCATION:Geneseo, NY 14454
TRANSP: OPAQUE
SEQUENCE:0
UID:
DTSTAMP:20260425T113015Z
SUMMARY:Crafters, Wood Workers, Christmas Decorations and more. This is the Sale for you!
DESCRIPTION:Crafters, Wood Workers, Christmas Decorations and more. This is the Sale for you! Grasons Finger Lakes North, NY 
UID:1777138215
STREET-ADDRESS:See website
POSTAL-CODE:14454
LOCALITY:Geneseo
REGION:ABBREV=NY
COUNTRY:ABBREV=US;ABBREV=USA:United States
URL;TYPE=Event Listing:https://estatesales.org/estate-sales/ny/geneseo/14454/crafters-wood-workers-christmas-decorations-2402648
PRIORITY:1
CLASS:PUBLIC
SEQUENCE:0
STATUS:CONFIRMED
TRANSP:OPAQUE
END:VEVENT
END:VCALENDAR
